BEGIN:VCALENDAR
VERSION:2.0
PRODID:-//John Paul II Center for Interreligious Dialogue - ECPv6.6.4.2//NONSGML v1.0//EN
CALSCALE:GREGORIAN
METHOD:PUBLISH
X-WR-CALNAME:John Paul II Center for Interreligious Dialogue
X-ORIGINAL-URL:https://jp2center.org
X-WR-CALDESC:Events for John Paul II Center for Interreligious Dialogue
REFRESH-INTERVAL;VALUE=DURATION:PT1H
X-Robots-Tag:noindex
X-PUBLISHED-TTL:PT1H
BEGIN:VTIMEZONE
TZID:Europe/Rome
BEGIN:DAYLIGHT
TZOFFSETFROM:+0100
TZOFFSETTO:+0200
TZNAME:CEST
DTSTART:20190331T010000
END:DAYLIGHT
BEGIN:STANDARD
TZOFFSETFROM:+0200
TZOFFSETTO:+0100
TZNAME:CET
DTSTART:20191027T010000
END:STANDARD
END:VTIMEZONE
BEGIN:VEVENT
DTSTART;TZID=Europe/Rome:20190516T180000
DTEND;TZID=Europe/Rome:20190516T193000
DTSTAMP:20260421T105842
CREATED:20221213T210843Z
LAST-MODIFIED:20221213T211422Z
UID:997-1558029600-1558035000@jp2center.org
SUMMARY:The ACU/PISAI Rome Lecture - Nobiscum Deum Adorant Unicum…How Could Theological Dialogue with Muslims be Impossible?
DESCRIPTION:Daniel Madigan\, S.J.Viale di Trastevere 89 00153 Roma +390658392611 info@pisai.it www.pisai.it
URL:https://jp2center.org/event/the-acu-pisai-rome-lecture-nobiscum-deum-adorant-unicum-how-could-theological-dialogue-with-muslims-be-impossible/
END:VEVENT
END:VCALENDAR