BEGIN:VCALENDAR
VERSION:2.0
PRODID:-//John Paul II Center for Interreligious Dialogue - ECPv6.6.4.2//NONSGML v1.0//EN
CALSCALE:GREGORIAN
METHOD:PUBLISH
X-WR-CALNAME:John Paul II Center for Interreligious Dialogue
X-ORIGINAL-URL:https://jp2center.org
X-WR-CALDESC:Events for John Paul II Center for Interreligious Dialogue
REFRESH-INTERVAL;VALUE=DURATION:PT1H
X-Robots-Tag:noindex
X-PUBLISHED-TTL:PT1H
BEGIN:VTIMEZONE
TZID:Europe/Rome
BEGIN:DAYLIGHT
TZOFFSETFROM:+0100
TZOFFSETTO:+0200
TZNAME:CEST
DTSTART:20190331T010000
END:DAYLIGHT
BEGIN:STANDARD
TZOFFSETFROM:+0200
TZOFFSETTO:+0100
TZNAME:CET
DTSTART:20191027T010000
END:STANDARD
END:VTIMEZONE
BEGIN:VEVENT
DTSTART;TZID=Europe/Rome:20190419T000000
DTEND;TZID=Europe/Rome:20190419T000000
DTSTAMP:20260421T122126
CREATED:20221213T210846Z
LAST-MODIFIED:20221213T211422Z
UID:999-1555632000-1555632000@jp2center.org
SUMMARY:Russell Berrie Fellowship Applications for 2019-20 are now open!
DESCRIPTION:Application deadline: April 19\, 2019For application materials and guidelines please visit: www.iie.eu/berrie
URL:https://jp2center.org/event/russell-berrie-fellowship-applications-for-2019-20-are-now-open/
END:VEVENT
END:VCALENDAR